BEGIN:VCALENDAR
VERSION:2.0
PRODID:-//hacksw/handcal//NONSGML v1.0//EN
BEGIN:VEVENT
SUMMARY:Rando 8 km
UID:65da9829-df7c-4d76-b4bd-0b66ab8305f3
DTSTART:20261220T080000Z
DTEND:20261220T230000Z
LOCATION:Localisation   
CATEGORIES:Entrainement
STATUS:
URL;VALUE=URI:https://www.acgr22.fr/evenements/2026/12/20/rando-8-km-2442425
END:VEVENT
END:VCALENDAR
