BEGIN:VCALENDAR
VERSION:2.0
PRODID:-//hacksw/handcal//NONSGML v1.0//EN
BEGIN:VEVENT
SUMMARY:permanence - jeux de societe
UID:5618dbe9-b1c6-4b7f-af26-83e7eeeaded5
DTSTART:20261218T123000Z
DTEND:20261218T153000Z
LOCATION:Localisation   
CATEGORIES:Entrainement
STATUS:
URL;VALUE=URI:https://www.acgr22.fr/evenements/2026/12/18/permanence-jeux-de-societe-2442364
END:VEVENT
END:VCALENDAR
