BEGIN:VCALENDAR
VERSION:2.0
PRODID:-//hacksw/handcal//NONSGML v1.0//EN
BEGIN:VEVENT
SUMMARY:yoga
UID:3e43038d-50d3-4595-97a2-0d2b344027c2
DTSTART:20261217T080000Z
DTEND:20261217T093000Z
LOCATION:Localisation   
CATEGORIES:Entrainement
STATUS:
URL;VALUE=URI:https://www.acgr22.fr/evenements/2026/12/17/yoga-2442271
END:VEVENT
END:VCALENDAR
