BEGIN:VCALENDAR
VERSION:2.0
PRODID:-//hacksw/handcal//NONSGML v1.0//EN
BEGIN:VEVENT
SUMMARY:sudoku (salle D )
UID:2c55b227-7283-4845-b563-9998ac8e0f9b
DTSTART:20261217T083000Z
DTEND:20261217T103000Z
LOCATION:Localisation   
CATEGORIES:Entrainement
STATUS:
URL;VALUE=URI:https://www.acgr22.fr/evenements/2026/12/17/sudoku-salle-d-2442334
END:VEVENT
END:VCALENDAR
