BEGIN:VCALENDAR
VERSION:2.0
PRODID:-//hacksw/handcal//NONSGML v1.0//EN
BEGIN:VEVENT
SUMMARY:tricot
UID:58430842-dbec-4c9a-9f99-3d193e66e33b
DTSTART:20261216T130000Z
DTEND:20261216T160000Z
LOCATION:Localisation   
CATEGORIES:Entrainement
STATUS:
URL;VALUE=URI:https://www.acgr22.fr/evenements/2026/12/16/tricot-2441977
END:VEVENT
END:VCALENDAR
