BEGIN:VCALENDAR
VERSION:2.0
PRODID:-//hacksw/handcal//NONSGML v1.0//EN
BEGIN:VEVENT
SUMMARY:Rando 5km
UID:97a30d31-6d2c-4807-85ff-5c2556fe9af5
DTSTART:20261215T130000Z
DTEND:20261215T230000Z
LOCATION:Localisation   
CATEGORIES:Entrainement
STATUS:
URL;VALUE=URI:https://www.acgr22.fr/evenements/2026/12/15/rando-5km-2442394
END:VEVENT
END:VCALENDAR
