BEGIN:VCALENDAR
VERSION:2.0
PRODID:-//hacksw/handcal//NONSGML v1.0//EN
BEGIN:VEVENT
SUMMARY:photo
UID:68a2e8cb-8201-46eb-a122-0992d10d09f5
DTSTART:20261215T090000Z
DTEND:20261215T110000Z
LOCATION:Localisation   
CATEGORIES:Entrainement
STATUS:
URL;VALUE=URI:https://www.acgr22.fr/evenements/2026/12/15/photo-2442305
END:VEVENT
END:VCALENDAR
