BEGIN:VCALENDAR
VERSION:2.0
PRODID:-//hacksw/handcal//NONSGML v1.0//EN
BEGIN:VEVENT
SUMMARY:yoga
UID:a739a684-6f42-4bb2-adf3-e278d9b59aea
DTSTART:20261210T080000Z
DTEND:20261210T093000Z
LOCATION:Localisation   
CATEGORIES:Entrainement
STATUS:
URL;VALUE=URI:https://www.acgr22.fr/evenements/2026/12/10/yoga-2442278
END:VEVENT
END:VCALENDAR
