BEGIN:VCALENDAR
VERSION:2.0
PRODID:-//hacksw/handcal//NONSGML v1.0//EN
BEGIN:VEVENT
SUMMARY:Rando 15km+++
UID:72153166-e7a6-4e3f-bc0a-511b77fe897e
DTSTART:20261210T120000Z
DTEND:20261210T230000Z
LOCATION:Localisation   
CATEGORIES:Entrainement
STATUS:
URL;VALUE=URI:https://www.acgr22.fr/evenements/2026/12/10/rando-15km-2442412
END:VEVENT
END:VCALENDAR
