BEGIN:VCALENDAR
VERSION:2.0
PRODID:-//hacksw/handcal//NONSGML v1.0//EN
BEGIN:VEVENT
SUMMARY:Rando 8 km ou 12 km
UID:97756b81-468e-41f5-81a0-d714f492b2a4
DTSTART:20261207T123000Z
DTEND:20261207T230000Z
LOCATION:Localisation   
CATEGORIES:Entrainement
STATUS:
URL;VALUE=URI:https://www.acgr22.fr/evenements/2026/12/07/rando-8-km-ou-12-km-2442381
END:VEVENT
END:VCALENDAR
