BEGIN:VCALENDAR
VERSION:2.0
PRODID:-//hacksw/handcal//NONSGML v1.0//EN
BEGIN:VEVENT
SUMMARY:echec -scrabble
UID:43213c42-72a7-475a-bf7c-533c8aff8f7b
DTSTART:20261202T083000Z
DTEND:20261202T110000Z
LOCATION:Localisation   
CATEGORIES:Entrainement
STATUS:
URL;VALUE=URI:https://www.acgr22.fr/evenements/2026/12/02/echec-scrabble-2442357
END:VEVENT
END:VCALENDAR
