BEGIN:VCALENDAR
VERSION:2.0
PRODID:-//hacksw/handcal//NONSGML v1.0//EN
BEGIN:VEVENT
SUMMARY:Rando 8 km ou 12 km
UID:338daf1c-c56a-4d6e-88c9-830dc1f30216
DTSTART:20261130T123000Z
DTEND:20261130T230000Z
LOCATION:Localisation   
CATEGORIES:Entrainement
STATUS:
URL;VALUE=URI:https://www.acgr22.fr/evenements/2026/11/30/rando-8-km-ou-12-km-2442387
END:VEVENT
END:VCALENDAR
