BEGIN:VCALENDAR
VERSION:2.0
PRODID:-//hacksw/handcal//NONSGML v1.0//EN
BEGIN:VEVENT
SUMMARY:sudoku (salle D )
UID:85d2dea7-9a6a-460f-98c2-e5c6b225a254
DTSTART:20261126T083000Z
DTEND:20261126T103000Z
LOCATION:Localisation   
CATEGORIES:Entrainement
STATUS:
URL;VALUE=URI:https://www.acgr22.fr/evenements/2026/11/26/sudoku-salle-d-2442343
END:VEVENT
END:VCALENDAR
