BEGIN:VCALENDAR
VERSION:2.0
PRODID:-//hacksw/handcal//NONSGML v1.0//EN
BEGIN:VEVENT
SUMMARY:musique
UID:9a06635f-4a6e-4203-a7c3-c67c30714f5f
DTSTART:20261125T083000Z
DTEND:20261125T110000Z
LOCATION:Localisation   
CATEGORIES:Entrainement
STATUS:
URL;VALUE=URI:https://www.acgr22.fr/evenements/2026/11/25/musique-2442296
END:VEVENT
END:VCALENDAR
