BEGIN:VCALENDAR
VERSION:2.0
PRODID:-//hacksw/handcal//NONSGML v1.0//EN
BEGIN:VEVENT
SUMMARY:echec -scrabble
UID:d8df7833-d3ff-44bf-8609-22a7461d7e05
DTSTART:20261125T083000Z
DTEND:20261125T110000Z
LOCATION:Localisation   
CATEGORIES:Entrainement
STATUS:
URL;VALUE=URI:https://www.acgr22.fr/evenements/2026/11/25/echec-scrabble-2442358
END:VEVENT
END:VCALENDAR
