BEGIN:VCALENDAR
VERSION:2.0
PRODID:-//hacksw/handcal//NONSGML v1.0//EN
BEGIN:VEVENT
SUMMARY:photo
UID:42cfde1b-74ae-43d7-a648-12d93f500d41
DTSTART:20261124T090000Z
DTEND:20261124T110000Z
LOCATION:Localisation   
CATEGORIES:Entrainement
STATUS:
URL;VALUE=URI:https://www.acgr22.fr/evenements/2026/11/24/photo-2442314
END:VEVENT
END:VCALENDAR
