BEGIN:VCALENDAR
VERSION:2.0
PRODID:-//hacksw/handcal//NONSGML v1.0//EN
BEGIN:VEVENT
SUMMARY:couture
UID:1225a786-3c05-43a0-87ea-771ce2bb04b7
DTSTART:20261123T080000Z
DTEND:20261123T110000Z
LOCATION:Localisation   
CATEGORIES:Entrainement
STATUS:
URL;VALUE=URI:https://www.acgr22.fr/evenements/2026/11/23/couture-2441966
END:VEVENT
END:VCALENDAR
