BEGIN:VCALENDAR
VERSION:2.0
PRODID:-//hacksw/handcal//NONSGML v1.0//EN
BEGIN:VEVENT
SUMMARY:Rando 8 km
UID:bc151758-e167-48ce-82b3-d1f407aca6f5
DTSTART:20261122T080000Z
DTEND:20261122T230000Z
LOCATION:Localisation   
CATEGORIES:Entrainement
STATUS:
URL;VALUE=URI:https://www.acgr22.fr/evenements/2026/11/22/rando-8-km-2442435
END:VEVENT
END:VCALENDAR
