BEGIN:VCALENDAR
VERSION:2.0
PRODID:-//hacksw/handcal//NONSGML v1.0//EN
BEGIN:VEVENT
SUMMARY:sudoku (salle D )
UID:90eff988-15f9-444b-8bd7-b45c3018d44f
DTSTART:20261119T083000Z
DTEND:20261119T103000Z
LOCATION:Localisation   
CATEGORIES:Entrainement
STATUS:
URL;VALUE=URI:https://www.acgr22.fr/evenements/2026/11/19/sudoku-salle-d-2442344
END:VEVENT
END:VCALENDAR
