BEGIN:VCALENDAR
VERSION:2.0
PRODID:-//hacksw/handcal//NONSGML v1.0//EN
BEGIN:VEVENT
SUMMARY:Reunion des meneurs
UID:8202f4ad-1c3b-4e12-af80-743d5add8097
DTSTART:20261118T160000Z
DTEND:20261118T180000Z
LOCATION:Localisation   
CATEGORIES:Sportif
STATUS:
URL;VALUE=URI:https://www.acgr22.fr/evenements/2026/11/18/reunion-des-meneurs-2442464
END:VEVENT
END:VCALENDAR
