BEGIN:VCALENDAR
VERSION:2.0
PRODID:-//hacksw/handcal//NONSGML v1.0//EN
BEGIN:VEVENT
SUMMARY:echec -scrabble
UID:13a446ca-e77b-4bbb-9b5d-9cdf39bfd43b
DTSTART:20261118T083000Z
DTEND:20261118T110000Z
LOCATION:Localisation   
CATEGORIES:Entrainement
STATUS:
URL;VALUE=URI:https://www.acgr22.fr/evenements/2026/11/18/echec-scrabble-2442359
END:VEVENT
END:VCALENDAR
