BEGIN:VCALENDAR
VERSION:2.0
PRODID:-//hacksw/handcal//NONSGML v1.0//EN
BEGIN:VEVENT
SUMMARY:danse bretonne
UID:4aa13b05-3029-4ec3-8fc6-43c4acecb150
DTSTART:20261117T191500Z
DTEND:20261117T201500Z
LOCATION:Localisation   
CATEGORIES:Entrainement
STATUS:
URL;VALUE=URI:https://www.acgr22.fr/evenements/2026/11/17/danse-bretonne-2442329
END:VEVENT
END:VCALENDAR
