BEGIN:VCALENDAR
VERSION:2.0
PRODID:-//hacksw/handcal//NONSGML v1.0//EN
BEGIN:VEVENT
SUMMARY:Rando 8 km ou 12 km
UID:e8598d61-5664-487a-b1bf-745ba892813b
DTSTART:20261116T123000Z
DTEND:20261116T230000Z
LOCATION:Localisation   
CATEGORIES:Entrainement
STATUS:
URL;VALUE=URI:https://www.acgr22.fr/evenements/2026/11/16/rando-8-km-ou-12-km-2442389
END:VEVENT
END:VCALENDAR
