BEGIN:VCALENDAR
VERSION:2.0
PRODID:-//hacksw/handcal//NONSGML v1.0//EN
BEGIN:VEVENT
SUMMARY:Rando 8 km
UID:5af4128c-b973-4986-80b8-5ee7f5b137b0
DTSTART:20261115T080000Z
DTEND:20261115T230000Z
LOCATION:Localisation   
CATEGORIES:Entrainement
STATUS:
URL;VALUE=URI:https://www.acgr22.fr/evenements/2026/11/15/rando-8-km-2442436
END:VEVENT
END:VCALENDAR
