BEGIN:VCALENDAR
VERSION:2.0
PRODID:-//hacksw/handcal//NONSGML v1.0//EN
BEGIN:VEVENT
SUMMARY:yoga
UID:0f8b9461-5de2-41be-aea1-4a65e567afdd
DTSTART:20261112T080000Z
DTEND:20261112T093000Z
LOCATION:Localisation   
CATEGORIES:Entrainement
STATUS:
URL;VALUE=URI:https://www.acgr22.fr/evenements/2026/11/12/yoga-2442276
END:VEVENT
END:VCALENDAR
