BEGIN:VCALENDAR
VERSION:2.0
PRODID:-//hacksw/handcal//NONSGML v1.0//EN
BEGIN:VEVENT
SUMMARY:sudoku (salle D )
UID:a19a2fd6-6090-42d1-b742-c0065e9efc61
DTSTART:20261112T083000Z
DTEND:20261112T103000Z
LOCATION:Localisation   
CATEGORIES:Entrainement
STATUS:
URL;VALUE=URI:https://www.acgr22.fr/evenements/2026/11/12/sudoku-salle-d-2442345
END:VEVENT
END:VCALENDAR
