BEGIN:VCALENDAR
VERSION:2.0
PRODID:-//hacksw/handcal//NONSGML v1.0//EN
BEGIN:VEVENT
SUMMARY:Rando 15km+++
UID:82fe742a-4516-463d-a4af-8e138ea5582f
DTSTART:20261112T120000Z
DTEND:20261112T230000Z
LOCATION:Localisation   
CATEGORIES:Entrainement
STATUS:
URL;VALUE=URI:https://www.acgr22.fr/evenements/2026/11/12/rando-15km-2442421
END:VEVENT
END:VCALENDAR
