BEGIN:VCALENDAR
VERSION:2.0
PRODID:-//hacksw/handcal//NONSGML v1.0//EN
BEGIN:VEVENT
SUMMARY:yoga
UID:6ce05ebe-6cbd-4c8f-85cb-4e4c75550a10
DTSTART:20261022T070000Z
DTEND:20261022T083000Z
LOCATION:Localisation   
CATEGORIES:Entrainement
STATUS:
URL;VALUE=URI:https://www.acgr22.fr/evenements/2026/10/22/yoga-2442273
END:VEVENT
END:VCALENDAR
