BEGIN:VCALENDAR
VERSION:2.0
PRODID:-//hacksw/handcal//NONSGML v1.0//EN
BEGIN:VEVENT
SUMMARY:Rando 15km+++
UID:237534d0-24c7-4390-828b-fae66d966583
DTSTART:20261022T110000Z
DTEND:20261022T220000Z
LOCATION:Localisation   
CATEGORIES:Entrainement
STATUS:
URL;VALUE=URI:https://www.acgr22.fr/evenements/2026/10/22/rando-15km-2442413
END:VEVENT
END:VCALENDAR
