BEGIN:VCALENDAR
VERSION:2.0
PRODID:-//hacksw/handcal//NONSGML v1.0//EN
BEGIN:VEVENT
SUMMARY:Histoires contees
UID:679d1340-a393-4718-96c9-8395c7002b84
DTSTART:20261021T113000Z
DTEND:20261021T143000Z
LOCATION:Localisation   
CATEGORIES:Sportif
STATUS:
URL;VALUE=URI:https://www.acgr22.fr/evenements/2026/10/21/histoires-contees-2443581
END:VEVENT
END:VCALENDAR
