BEGIN:VCALENDAR
VERSION:2.0
PRODID:-//hacksw/handcal//NONSGML v1.0//EN
BEGIN:VEVENT
SUMMARY:echec -scrabble
UID:bc480b5b-ec97-4a1c-8801-f5b42a2f2ed7
DTSTART:20261021T073000Z
DTEND:20261021T100000Z
LOCATION:Localisation   
CATEGORIES:Entrainement
STATUS:
URL;VALUE=URI:https://www.acgr22.fr/evenements/2026/10/21/echec-scrabble-2442352
END:VEVENT
END:VCALENDAR
