BEGIN:VCALENDAR
VERSION:2.0
PRODID:-//hacksw/handcal//NONSGML v1.0//EN
BEGIN:VEVENT
SUMMARY:Rando 5km
UID:ff4c9828-57c9-48d9-b19f-5864cd1f0dc3
DTSTART:20261020T120000Z
DTEND:20261020T220000Z
LOCATION:Localisation   
CATEGORIES:Entrainement
STATUS:
URL;VALUE=URI:https://www.acgr22.fr/evenements/2026/10/20/rando-5km-2442397
END:VEVENT
END:VCALENDAR
