BEGIN:VCALENDAR
VERSION:2.0
PRODID:-//hacksw/handcal//NONSGML v1.0//EN
BEGIN:VEVENT
SUMMARY:photo
UID:cc369908-6dff-4e71-bc80-7b6af6b3c5f5
DTSTART:20261020T080000Z
DTEND:20261020T100000Z
LOCATION:Localisation   
CATEGORIES:Entrainement
STATUS:
URL;VALUE=URI:https://www.acgr22.fr/evenements/2026/10/20/photo-2442307
END:VEVENT
END:VCALENDAR
