BEGIN:VCALENDAR
VERSION:2.0
PRODID:-//hacksw/handcal//NONSGML v1.0//EN
BEGIN:VEVENT
SUMMARY:danse bretonne
UID:7a6502a3-361a-46fc-9b47-b1bb49a2fd60
DTSTART:20261020T181500Z
DTEND:20261020T191500Z
LOCATION:Localisation   
CATEGORIES:Entrainement
STATUS:
URL;VALUE=URI:https://www.acgr22.fr/evenements/2026/10/20/danse-bretonne-2442322
END:VEVENT
END:VCALENDAR
