BEGIN:VCALENDAR
VERSION:2.0
PRODID:-//hacksw/handcal//NONSGML v1.0//EN
BEGIN:VEVENT
SUMMARY:Rando 8 km ou 12 km
UID:eac2b11d-dc62-4aec-a51a-90d2c33bac1b
DTSTART:20261019T113000Z
DTEND:20261019T220000Z
LOCATION:Localisation   
CATEGORIES:Entrainement
STATUS:
URL;VALUE=URI:https://www.acgr22.fr/evenements/2026/10/19/rando-8-km-ou-12-km-2442382
END:VEVENT
END:VCALENDAR
