BEGIN:VCALENDAR
VERSION:2.0
PRODID:-//hacksw/handcal//NONSGML v1.0//EN
BEGIN:VEVENT
SUMMARY:Rando 8 km
UID:09a264d9-3bb5-4f77-8ea8-a6df44c888c7
DTSTART:20261018T070000Z
DTEND:20261018T220000Z
LOCATION:Localisation   
CATEGORIES:Entrainement
STATUS:
URL;VALUE=URI:https://www.acgr22.fr/evenements/2026/10/18/rando-8-km-2442429
END:VEVENT
END:VCALENDAR
