BEGIN:VCALENDAR
VERSION:2.0
PRODID:-//hacksw/handcal//NONSGML v1.0//EN
BEGIN:VEVENT
SUMMARY:peinture
UID:3b333b64-28dd-460c-9b43-c283a65368ec
DTSTART:20261016T073000Z
DTEND:20261016T100000Z
LOCATION:Localisation   
CATEGORIES:Entrainement
STATUS:
URL;VALUE=URI:https://www.acgr22.fr/evenements/2026/10/16/peinture-2441295
END:VEVENT
END:VCALENDAR
