BEGIN:VCALENDAR
VERSION:2.0
PRODID:-//hacksw/handcal//NONSGML v1.0//EN
BEGIN:VEVENT
SUMMARY:sudoku (salle D )
UID:9a3accd6-9fd0-4ff1-818f-e6cd3e741470
DTSTART:20261015T073000Z
DTEND:20261015T093000Z
LOCATION:Localisation   
CATEGORIES:Entrainement
STATUS:
URL;VALUE=URI:https://www.acgr22.fr/evenements/2026/10/15/sudoku-salle-d-2442338
END:VEVENT
END:VCALENDAR
