BEGIN:VCALENDAR
VERSION:2.0
PRODID:-//hacksw/handcal//NONSGML v1.0//EN
BEGIN:VEVENT
SUMMARY:Rando 15km+++
UID:60678cb6-ff68-4f92-b77a-de93b8fd129d
DTSTART:20261015T110000Z
DTEND:20261015T220000Z
LOCATION:Localisation   
CATEGORIES:Entrainement
STATUS:
URL;VALUE=URI:https://www.acgr22.fr/evenements/2026/10/15/rando-15km-2442414
END:VEVENT
END:VCALENDAR
