BEGIN:VCALENDAR
VERSION:2.0
PRODID:-//hacksw/handcal//NONSGML v1.0//EN
BEGIN:VEVENT
SUMMARY:Rando 5km
UID:6914e6da-4d1a-4ed9-b291-1347b408dcf5
DTSTART:20261013T120000Z
DTEND:20261013T220000Z
LOCATION:Localisation   
CATEGORIES:Entrainement
STATUS:
URL;VALUE=URI:https://www.acgr22.fr/evenements/2026/10/13/rando-5km-2442398
END:VEVENT
END:VCALENDAR
