BEGIN:VCALENDAR
VERSION:2.0
PRODID:-//hacksw/handcal//NONSGML v1.0//EN
BEGIN:VEVENT
SUMMARY:photo
UID:8bda4e99-33ad-4298-9c64-1f8bebf944ff
DTSTART:20261013T080000Z
DTEND:20261013T100000Z
LOCATION:Localisation   
CATEGORIES:Entrainement
STATUS:
URL;VALUE=URI:https://www.acgr22.fr/evenements/2026/10/13/photo-2442308
END:VEVENT
END:VCALENDAR
