BEGIN:VCALENDAR
VERSION:2.0
PRODID:-//hacksw/handcal//NONSGML v1.0//EN
BEGIN:VEVENT
SUMMARY:danse bretonne
UID:e32e73da-8bef-46ce-afd9-ba804b9eab6f
DTSTART:20261013T181500Z
DTEND:20261013T191500Z
LOCATION:Localisation   
CATEGORIES:Entrainement
STATUS:
URL;VALUE=URI:https://www.acgr22.fr/evenements/2026/10/13/danse-bretonne-2442323
END:VEVENT
END:VCALENDAR
