BEGIN:VCALENDAR
VERSION:2.0
PRODID:-//hacksw/handcal//NONSGML v1.0//EN
BEGIN:VEVENT
SUMMARY:couture
UID:1f1ebb8e-78eb-4382-93e8-a7ddc2ba08d9
DTSTART:20261012T070000Z
DTEND:20261012T100000Z
LOCATION:Localisation   
CATEGORIES:Entrainement
STATUS:
URL;VALUE=URI:https://www.acgr22.fr/evenements/2026/10/12/couture-2441965
END:VEVENT
END:VCALENDAR
