BEGIN:VCALENDAR
VERSION:2.0
PRODID:-//hacksw/handcal//NONSGML v1.0//EN
BEGIN:VEVENT
SUMMARY:Rando 8 km
UID:4914a6c9-1b5f-4e21-999d-fff84c0c5eb4
DTSTART:20261011T070000Z
DTEND:20261011T220000Z
LOCATION:Localisation   
CATEGORIES:Entrainement
STATUS:
URL;VALUE=URI:https://www.acgr22.fr/evenements/2026/10/11/rando-8-km-2442430
END:VEVENT
END:VCALENDAR
