BEGIN:VCALENDAR
VERSION:2.0
PRODID:-//hacksw/handcal//NONSGML v1.0//EN
BEGIN:VEVENT
SUMMARY:permanence - jeux de societe
UID:e6757707-5e90-4f62-b75e-e096f9129789
DTSTART:20261009T113000Z
DTEND:20261009T143000Z
LOCATION:Localisation   
CATEGORIES:Entrainement
STATUS:
URL;VALUE=URI:https://www.acgr22.fr/evenements/2026/10/09/permanence-jeux-de-societe-2442369
END:VEVENT
END:VCALENDAR
