BEGIN:VCALENDAR
VERSION:2.0
PRODID:-//hacksw/handcal//NONSGML v1.0//EN
BEGIN:VEVENT
SUMMARY:peinture
UID:c48dda5f-9a19-416a-9ada-073d49fb9f40
DTSTART:20261009T073000Z
DTEND:20261009T100000Z
LOCATION:Localisation   
CATEGORIES:Entrainement
STATUS:
URL;VALUE=URI:https://www.acgr22.fr/evenements/2026/10/09/peinture-2441294
END:VEVENT
END:VCALENDAR
