BEGIN:VCALENDAR
VERSION:2.0
PRODID:-//hacksw/handcal//NONSGML v1.0//EN
BEGIN:VEVENT
SUMMARY:yoga
UID:fb9a9450-ebce-43b6-b249-f2d9e8688b0c
DTSTART:20261008T070000Z
DTEND:20261008T083000Z
LOCATION:Localisation   
CATEGORIES:Entrainement
STATUS:
URL;VALUE=URI:https://www.acgr22.fr/evenements/2026/10/08/yoga-2442270
END:VEVENT
END:VCALENDAR
