BEGIN:VCALENDAR
VERSION:2.0
PRODID:-//hacksw/handcal//NONSGML v1.0//EN
BEGIN:VEVENT
SUMMARY:Rando 15km+++
UID:cec3b55c-8ef6-4553-bca6-93b3dbc0f40e
DTSTART:20261008T110000Z
DTEND:20261008T220000Z
LOCATION:Localisation   
CATEGORIES:Entrainement
STATUS:
URL;VALUE=URI:https://www.acgr22.fr/evenements/2026/10/08/rando-15km-2442415
END:VEVENT
END:VCALENDAR
