BEGIN:VCALENDAR
VERSION:2.0
PRODID:-//hacksw/handcal//NONSGML v1.0//EN
BEGIN:VEVENT
SUMMARY:tricot
UID:1c6cb133-feb5-4e47-934b-59a1faae91f9
DTSTART:20261007T120000Z
DTEND:20261007T150000Z
LOCATION:Localisation   
CATEGORIES:Entrainement
STATUS:
URL;VALUE=URI:https://www.acgr22.fr/evenements/2026/10/07/tricot-2441974
END:VEVENT
END:VCALENDAR
