BEGIN:VCALENDAR
VERSION:2.0
PRODID:-//hacksw/handcal//NONSGML v1.0//EN
BEGIN:VEVENT
SUMMARY:musique
UID:a59479f0-5b67-487d-81ed-9a116970bd71
DTSTART:20261007T073000Z
DTEND:20261007T100000Z
LOCATION:Localisation   
CATEGORIES:Entrainement
STATUS:
URL;VALUE=URI:https://www.acgr22.fr/evenements/2026/10/07/musique-2442292
END:VEVENT
END:VCALENDAR
